BEGIN:VCALENDAR
VERSION:2.0
PRODID:-//Plone.org//NONSGML plone.app.event//EN
X-WR-TIMEZONE:US/Central
BEGIN:VEVENT
SUMMARY:Independence Day-Library Closed
DTSTART;VALUE=DATE:20180704
DTEND;VALUE=DATE:20180705
DTSTAMP:20260420T110817Z
UID:16b1aa7d8fec4c28bce6cfaeab59461c@saas_stack_varnish:6080
CREATED:20180109T183345Z
DESCRIPTION:Normal business hours will resume on July 5\, 2018
LAST-MODIFIED:20180109T183557Z
URL:https://sterling-county.ploud.net/independence-day
END:VEVENT
END:VCALENDAR
